BEGIN:VCALENDAR
VERSION:2.0
METHOD:PUBLISH
BEGIN:VEVENT
DTSTART:20220628T080000
DTEND:20220628T103000
LOCATION:Centrum Aktywnosci Społecznej Jana Pawła II 4  Mikołów
TRANSP: OPAQUE
SEQUENCE:0
UID:
DTSTAMP:20260424T100056Z
SUMMARY:Seminarium dla przedsiębiorców: ubezpieczenia i podatki
DESCRIPTION:Serdecznie zapraszamy przedsiębiorców z Mikołowa i całego powiatu mikołowskiego do udziału w seminarium poświęconym ubezpieczeniom i podatkom. Naszymi gośćmi będą eksperci z rybnickiego......
URL:https://app.evenea.pl/event/zusius02/
PRIORITY:1
CLASS:PUBLIC
END:VEVENT
END:VCALENDAR
