BEGIN:VCALENDAR
VERSION:2.0
METHOD:PUBLISH
BEGIN:VEVENT
DTSTART:20210623T120000
DTEND:20210623T120000
LOCATION:Hotel Premium Focus Nad Stawem 5  Gdańsk
TRANSP: OPAQUE
SEQUENCE:0
UID:
DTSTAMP:20260423T210324Z
SUMMARY:Zwyczajne Walne Zgromadzenie Członków RIGP
DESCRIPTION:Szanowni Państwo,Zarząd RIGP informuje o zwołaniu Walnego Zgromadzenia w dniu 23 czerwca 2021 r. o godz. 12.00 Miejsce: Focus Hotel Premium Gdańsk, ul. Nad Stawem 5. Porządek obrad będzie......
URL:https://app.evenea.pl/event/zwzc/
PRIORITY:1
CLASS:PUBLIC
END:VEVENT
END:VCALENDAR
